BEGIN:VCALENDAR
VERSION:2.0
PRODID:-//Champion Athletix - ECPv6.15.20//NONSGML v1.0//EN
CALSCALE:GREGORIAN
METHOD:PUBLISH
X-WR-CALNAME:Champion Athletix
X-ORIGINAL-URL:https://championathletix.com
X-WR-CALDESC:Events for Champion Athletix
REFRESH-INTERVAL;VALUE=DURATION:PT1H
X-Robots-Tag:noindex
X-PUBLISHED-TTL:PT1H
BEGIN:VTIMEZONE
TZID:America/New_York
BEGIN:DAYLIGHT
TZOFFSETFROM:-0500
TZOFFSETTO:-0400
TZNAME:EDT
DTSTART:20230312T070000
END:DAYLIGHT
BEGIN:STANDARD
TZOFFSETFROM:-0400
TZOFFSETTO:-0500
TZNAME:EST
DTSTART:20231105T060000
END:STANDARD
BEGIN:DAYLIGHT
TZOFFSETFROM:-0500
TZOFFSETTO:-0400
TZNAME:EDT
DTSTART:20240310T070000
END:DAYLIGHT
BEGIN:STANDARD
TZOFFSETFROM:-0400
TZOFFSETTO:-0500
TZNAME:EST
DTSTART:20241103T060000
END:STANDARD
BEGIN:DAYLIGHT
TZOFFSETFROM:-0500
TZOFFSETTO:-0400
TZNAME:EDT
DTSTART:20250309T070000
END:DAYLIGHT
BEGIN:STANDARD
TZOFFSETFROM:-0400
TZOFFSETTO:-0500
TZNAME:EST
DTSTART:20251102T060000
END:STANDARD
END:VTIMEZONE
BEGIN:VEVENT
DTSTART;TZID=America/New_York:20241127T093000
DTEND;TZID=America/New_York:20241127T113000
DTSTAMP:20260422T175837
CREATED:20240916T163038Z
LAST-MODIFIED:20241104T163356Z
UID:983-1732699800-1732707000@championathletix.com
SUMMARY:Fall Drop-Off Day
DESCRIPTION:[vc_row][vc_column][vc_single_image image=”989″ img_size=”full” alignment=”center”][vc_empty_space][vc_column_text]Looking for something fun to do on those school days off? Look no further\, our Fall drop off days include tumbling\, free play time and a craft. \nDates:\nNovember 11th | 2:30 – 4:30 pm\nNovember 27th | 9:30 – 11:30 am \nAges: 4-7\nCost: $30[/vc_column_text][vc_empty_space][vc_button title=”REGISTER NOW” target=”_blank” full_width=”true” href=”https://app.acuityscheduling.com/schedule.php?owner=22333602&appointmentType=68559910″][/vc_column][/vc_row]
URL:https://championathletix.com/event/fall-drop-off-day-3/
CATEGORIES:Upcoming Events
ATTACH;FMTTYPE=image/png:https://championathletix.com/wp-content/uploads/2024/09/Drop-Off-1.png
END:VEVENT
BEGIN:VEVENT
DTSTART;TZID=America/New_York:20241127T100000
DTEND;TZID=America/New_York:20241127T130000
DTSTAMP:20260422T175837
CREATED:20240916T161727Z
LAST-MODIFIED:20240916T161727Z
UID:979-1732701600-1732712400@championathletix.com
SUMMARY:Fall Tumbling Clinic
DESCRIPTION:[vc_row][vc_column][vc_single_image image=”977″ img_size=”full” alignment=”center”][vc_empty_space][vc_column_text]Fall Tumbling Clinics are open for registration. Whether you’re a cheerleader\, gymnast\, dancer\, or just like to tumble for fun\, you will LOVE our tumbling clinics. Incorporating drills\, conditioning\, and games\, you can work on new skills and help perfect the ones you have! \nDates:\nOctober 14th | 12:00 – 3:00 pm\nNovember 11th | 11:00 – 2:00 pm\nNovember 27th | 10:00 – 1:00 pm \nAges: 6+\nCost: $45 Single Day | $120 For All 3![/vc_column_text][vc_empty_space][vc_row_inner bwd_tbc4vd_show_weekday=”” content_placement=”top” gap=”10″][vc_column_inner width=”1/2″][vc_button title=”SINGLE DAY SIGNUPS” target=”_blank” full_width=”true” href=”https://app.acuityscheduling.com/schedule.php?owner=22333602&appointmentType=68556008″][/vc_column_inner][vc_column_inner width=”1/2″][vc_button title=”BUNDLE AND SAVE” target=”_blank” full_width=”true” href=”https://app.acuityscheduling.com/schedule.php?owner=22333602&appointmentType=68556065″][vc_empty_space height=”5px”][vc_column_text]\n(Register For All 3 Clinics) \n[/vc_column_text][/vc_column_inner][/vc_row_inner][/vc_column][/vc_row]
URL:https://championathletix.com/event/fall-tumbling-clinic-6/
CATEGORIES:Upcoming Events
ATTACH;FMTTYPE=image/png:https://championathletix.com/wp-content/uploads/2024/09/Fall-Tumbling-Clinics.png
END:VEVENT
END:VCALENDAR