BEGIN:VCALENDAR
VERSION:2.0
PRODID:-//Champion Athletix - ECPv6.15.20//NONSGML v1.0//EN
CALSCALE:GREGORIAN
METHOD:PUBLISH
X-WR-CALNAME:Champion Athletix
X-ORIGINAL-URL:https://championathletix.com
X-WR-CALDESC:Events for Champion Athletix
REFRESH-INTERVAL;VALUE=DURATION:PT1H
X-Robots-Tag:noindex
X-PUBLISHED-TTL:PT1H
BEGIN:VTIMEZONE
TZID:America/New_York
BEGIN:DAYLIGHT
TZOFFSETFROM:-0500
TZOFFSETTO:-0400
TZNAME:EDT
DTSTART:20240310T070000
END:DAYLIGHT
BEGIN:STANDARD
TZOFFSETFROM:-0400
TZOFFSETTO:-0500
TZNAME:EST
DTSTART:20241103T060000
END:STANDARD
BEGIN:DAYLIGHT
TZOFFSETFROM:-0500
TZOFFSETTO:-0400
TZNAME:EDT
DTSTART:20250309T070000
END:DAYLIGHT
BEGIN:STANDARD
TZOFFSETFROM:-0400
TZOFFSETTO:-0500
TZNAME:EST
DTSTART:20251102T060000
END:STANDARD
BEGIN:DAYLIGHT
TZOFFSETFROM:-0500
TZOFFSETTO:-0400
TZNAME:EDT
DTSTART:20260308T070000
END:DAYLIGHT
BEGIN:STANDARD
TZOFFSETFROM:-0400
TZOFFSETTO:-0500
TZNAME:EST
DTSTART:20261101T060000
END:STANDARD
END:VTIMEZONE
BEGIN:VEVENT
DTSTART;TZID=America/New_York:20251008T180000
DTEND;TZID=America/New_York:20251008T193000
DTSTAMP:20260424T094759
CREATED:20250915T155338Z
LAST-MODIFIED:20250915T203057Z
UID:1359-1759946400-1759951800@championathletix.com
SUMMARY:Back Handspring Clinic
DESCRIPTION:[vc_row][vc_column][vc_single_image image=”1360″ img_size=”full” alignment=”center” css=””][vc_empty_space][/vc_column][/vc_row][vc_row][vc_column][vc_column_text css=””]Level up your tumbling skills with focused specialty clinics designed for cheerleaders\, gymnasts\, and dancers! Athletes will practice safe progressions\, strength\, and technique—perfect for learning a new skill or refining form with confidence. \nAthletes will work drills for shaping\, blocking\, power\, and safe spotting progressions to build strong and confident back handsprings. Great for beginners learning their first handspring or athletes who want to improve technique and consistency. \nWho Should Attend \n\nCheerleaders\, gymnasts\, and dancers ready to gain or refine walkover and back handspring skills\nAthletes who want stronger technique\, better form\, and more confidence\n\nWhat to Expect \n\nStep-by-step progressions & spotted stations\nStrength\, shaping\, and flexibility training\nSmall-group attention and corrections\nSafety-first coaching in a fully equipped\, air-conditioned facility\n\nWhat to Bring \n\nAthletic wear & hair tied back\nWater bottle\nCheer/gym shoes or barefoot (coach preference on site)\n\nQuestions? Email info@championathletix.com or call 978-310-7798 \nDates: 10/8/2025Time: 6:00pm – 7:30pmCost: $25 Members | $30 Non-Members \nSpots are limited and fill quickly—reserve yours today![/vc_column_text][/vc_column][/vc_row][vc_row bwd_tbc4vd_show_weekday=”” gap=”10″ css=”.vc_custom_1757951317442{padding-top: 32px !important;padding-bottom: 32px !important;}”][vc_column][vc_custom_heading text=”REGISTER NOW” font_container=”tag:h2|text_align:left|color:%23000000″ use_theme_fonts=”yes” css=””][vc_separator style=”solid” color=”#000000″ padding_top=”10″ padding_bottom=”20″][/vc_column][vc_column width=”1/2″][vc_button title=”MEMBERS” target=”_blank” i_align=”right_icon” icon_fontawesome=”fa fa-solid fa-angles-right” full_width=”true” add_icon=”true” href=”https://app.acuityscheduling.com/schedule.php?owner=22333602&appointmentType=83289751″][/vc_column][vc_column width=”1/2″][vc_button title=”NON-MEMBERS” target=”_blank” i_align=”right_icon” icon_fontawesome=”fa fa-solid fa-angles-right” full_width=”true” add_icon=”true” href=”https://app.acuityscheduling.com/schedule.php?owner=22333602&appointmentType=83290035″][/vc_column][/vc_row]
URL:https://championathletix.com/event/back-handspring-clinic/
CATEGORIES:Upcoming Events
ATTACH;FMTTYPE=image/jpeg:https://championathletix.com/wp-content/uploads/2025/09/Backhandspring-Clinic.jpg
END:VEVENT
END:VCALENDAR